BEGIN:VCALENDAR
VERSION:2.0
PRODID:-//eventon.com NONSGML v1.0//EN
CALSCALE:GREGORIAN
METHOD:PUBLISH
BEGIN:VEVENT
UID:69e604e2c3da0
DTSTAMP:20260420T105010Z
DTSTART:20240211T100000Z
DTEND:20240211T110000Z
LOCATION:Katholische Corpus-Christi-Kirche Spremberger Str. 8\,  03159 Döbern
SUMMARY:Heilige Messe
DESCRIPTION:Heilige Messe\nhttps://www.kath-spremberg.de/events/gottesdiens
 t/
URL:https://www.kath-spremberg.de/events/gottesdienst/
END:VEVENT
END:VCALENDAR