BEGIN:VCALENDAR
VERSION:2.0
PRODID:-//eventon.com NONSGML v1.0//EN
CALSCALE:GREGORIAN
METHOD:PUBLISH
BEGIN:VEVENT
UID:69e7f23f7cb3e
DTSTAMP:20260421T215511Z
DTSTART:20240714T070000Z
DTEND:20240714T080000Z
LOCATION:Katholische Kirche St. Benno Bergstraße 32\,  03130 Spremberg
SUMMARY:Heilige Messe
DESCRIPTION:Heilige Messe\nhttps://www.kath-spremberg.de/events/gottesdiens
 t-2/var/ri-22.l-L1
URL:https://www.kath-spremberg.de/events/gottesdienst-2/var/ri-22.l-L1
END:VEVENT
END:VCALENDAR