BEGIN:VCALENDAR
VERSION:2.0
PRODID:-//eventon.com NONSGML v1.0//EN
CALSCALE:GREGORIAN
METHOD:PUBLISH
BEGIN:VEVENT
UID:69e89c3475393
DTSTAMP:20260422T100020Z
DTSTART:20240901T070000Z
DTEND:20240901T080000Z
LOCATION:Katholische Kirche St. Benno Bergstraße 32\,  03130 Spremberg
SUMMARY:Heilige Messe
DESCRIPTION:Heilige Messe\nhttps://www.kath-spremberg.de/events/gottesdiens
 t-2/var/ri-29.l-L1
URL:https://www.kath-spremberg.de/events/gottesdienst-2/var/ri-29.l-L1
END:VEVENT
END:VCALENDAR