BEGIN:VCALENDAR
VERSION:2.0
PRODID:-//eventon.com NONSGML v1.0//EN
CALSCALE:GREGORIAN
METHOD:PUBLISH
BEGIN:VEVENT
UID:69e95b86d0beb
DTSTAMP:20260422T233638Z
DTSTART:20241027T080000Z
DTEND:20241027T090000Z
LOCATION:Katholische Kirche St. Benno Bergstraße 32\,  03130 Spremberg
SUMMARY:Heilige Messe
DESCRIPTION:Heilige Messe\nhttps://www.kath-spremberg.de/events/gottesdiens
 t-2/var/ri-37.l-L1
URL:https://www.kath-spremberg.de/events/gottesdienst-2/var/ri-37.l-L1
END:VEVENT
END:VCALENDAR