BEGIN:VCALENDAR
VERSION:2.0
PRODID:-//eventon.com NONSGML v1.0//EN
CALSCALE:GREGORIAN
METHOD:PUBLISH
BEGIN:VEVENT
UID:69e9708c58bd8
DTSTAMP:20260423T010620Z
DTSTART:20241103T080000Z
DTEND:20241103T090000Z
LOCATION:Katholische Kirche St. Benno Bergstraße 32\,  03130 Spremberg
SUMMARY:Heilige Messe
DESCRIPTION:Heilige Messe\nhttps://www.kath-spremberg.de/events/gottesdiens
 t-2/var/ri-38.l-L1
URL:https://www.kath-spremberg.de/events/gottesdienst-2/var/ri-38.l-L1
END:VEVENT
END:VCALENDAR