BEGIN:VCALENDAR
VERSION:2.0
PRODID:-//eventon.com NONSGML v1.0//EN
CALSCALE:GREGORIAN
METHOD:PUBLISH
BEGIN:VEVENT
UID:69e66241993bf
DTSTAMP:20260420T172833Z
DTSTART:20240317T080000Z
DTEND:20240317T090000Z
LOCATION:Katholische Kirche St. Benno Bergstraße 32\,  03130 Spremberg
SUMMARY:Heilige Messe
DESCRIPTION:Heilige Messe\nhttps://www.kath-spremberg.de/events/gottesdiens
 t-2/var/ri-5.l-L1
URL:https://www.kath-spremberg.de/events/gottesdienst-2/var/ri-5.l-L1
END:VEVENT
END:VCALENDAR