BEGIN:VCALENDAR
VERSION:2.0
PRODID:-//eventon.com NONSGML v1.0//EN
CALSCALE:GREGORIAN
METHOD:PUBLISH
BEGIN:VEVENT
UID:69e603a10bfee
DTSTAMP:20260420T104449Z
DTSTART:20240213T080000Z
DTEND:20240213T090000Z
LOCATION:Katholische Kirche St. Benno Bergstraße 32\,  03130 Spremberg
SUMMARY:Heilige Messe
DESCRIPTION:Heilige Messe\nhttps://www.kath-spremberg.de/events/heilige-mes
 se/
URL:https://www.kath-spremberg.de/events/heilige-messe/
END:VEVENT
END:VCALENDAR