BEGIN:VCALENDAR
VERSION:2.0
PRODID:-//eventon.com NONSGML v1.0//EN
CALSCALE:GREGORIAN
METHOD:PUBLISH
BEGIN:VEVENT
UID:69e9724bc27f1
DTSTAMP:20260423T011347Z
DTSTART:20240423T070000Z
DTEND:20240423T080000Z
LOCATION:Katholische Kirche St. Benno Bergstraße 32\,  03130 Spremberg
SUMMARY:Heilige Messe
DESCRIPTION:Heilige Messe\nhttps://www.kath-spremberg.de/events/heilige-mes
 se/var/ri-10.l-L1
URL:https://www.kath-spremberg.de/events/heilige-messe/var/ri-10.l-L1
END:VEVENT
END:VCALENDAR