BEGIN:VCALENDAR
VERSION:2.0
PRODID:-//eventon.com NONSGML v1.0//EN
CALSCALE:GREGORIAN
METHOD:PUBLISH
BEGIN:VEVENT
UID:69e9a0e52a3cb
DTSTAMP:20260423T043237Z
DTSTART:20240507T070000Z
DTEND:20240507T080000Z
LOCATION:Katholische Kirche St. Benno Bergstraße 32\,  03130 Spremberg
SUMMARY:Heilige Messe
DESCRIPTION:Heilige Messe\nhttps://www.kath-spremberg.de/events/heilige-mes
 se/var/ri-12.l-L1
URL:https://www.kath-spremberg.de/events/heilige-messe/var/ri-12.l-L1
END:VEVENT
END:VCALENDAR