BEGIN:VCALENDAR
VERSION:2.0
PRODID:-//eventon.com NONSGML v1.0//EN
CALSCALE:GREGORIAN
METHOD:PUBLISH
BEGIN:VEVENT
UID:69eaf95f43819
DTSTAMP:20260424T050223Z
DTSTART:20240820T070000Z
DTEND:20240820T080000Z
LOCATION:Katholische Kirche St. Benno Bergstraße 32\,  03130 Spremberg
SUMMARY:Heilige Messe
DESCRIPTION:Heilige Messe\nhttps://www.kath-spremberg.de/events/heilige-mes
 se/var/ri-27.l-L1
URL:https://www.kath-spremberg.de/events/heilige-messe/var/ri-27.l-L1
END:VEVENT
END:VCALENDAR