BEGIN:VCALENDAR
VERSION:2.0
PRODID:-//eventon.com NONSGML v1.0//EN
CALSCALE:GREGORIAN
METHOD:PUBLISH
BEGIN:VEVENT
UID:69e94245a569a
DTSTAMP:20260422T214853Z
DTSTART:20240409T070000Z
DTEND:20240409T080000Z
LOCATION:Katholische Kirche St. Benno Bergstraße 32\,  03130 Spremberg
SUMMARY:Heilige Messe
DESCRIPTION:Heilige Messe\nhttps://www.kath-spremberg.de/events/heilige-mes
 se/var/ri-8.l-L1
URL:https://www.kath-spremberg.de/events/heilige-messe/var/ri-8.l-L1
END:VEVENT
END:VCALENDAR